BEGIN:VCALENDAR
VERSION:2.0
PRODID:-//AiN Group - ECPv6.15.20//NONSGML v1.0//EN
CALSCALE:GREGORIAN
METHOD:PUBLISH
X-ORIGINAL-URL:https://ain.myrize.io
X-WR-CALDESC:Events for AiN Group
REFRESH-INTERVAL;VALUE=DURATION:PT1H
X-Robots-Tag:noindex
X-PUBLISHED-TTL:PT1H
BEGIN:VTIMEZONE
TZID:America/Chicago
BEGIN:DAYLIGHT
TZOFFSETFROM:-0600
TZOFFSETTO:-0500
TZNAME:CDT
DTSTART:20220313T080000
END:DAYLIGHT
BEGIN:STANDARD
TZOFFSETFROM:-0500
TZOFFSETTO:-0600
TZNAME:CST
DTSTART:20221106T070000
END:STANDARD
BEGIN:DAYLIGHT
TZOFFSETFROM:-0600
TZOFFSETTO:-0500
TZNAME:CDT
DTSTART:20230312T080000
END:DAYLIGHT
BEGIN:STANDARD
TZOFFSETFROM:-0500
TZOFFSETTO:-0600
TZNAME:CST
DTSTART:20231105T070000
END:STANDARD
BEGIN:DAYLIGHT
TZOFFSETFROM:-0600
TZOFFSETTO:-0500
TZNAME:CDT
DTSTART:20240310T080000
END:DAYLIGHT
BEGIN:STANDARD
TZOFFSETFROM:-0500
TZOFFSETTO:-0600
TZNAME:CST
DTSTART:20241103T070000
END:STANDARD
END:VTIMEZONE
BEGIN:VEVENT
DTSTART;VALUE=DATE:20230118
DTEND;VALUE=DATE:20230122
DTSTAMP:20260421T102619
CREATED:20220503T225326Z
LAST-MODIFIED:20220503T225326Z
UID:3759-1674000000-1674345599@ain.myrize.io
SUMMARY:Live & Learn 2023
DESCRIPTION:We invite you to join us Phoenix\, Arizona at the Biltmore Hotel Resort and Spa. The conference is an extraordinary 4 day/3 night event.
URL:https://ain.myrize.io/event/live-learn-2023/
LOCATION:The Arizona Biltmore\, 2400 E Missouri Ave\, Phoenix\, AZ\, 85016\, United States
END:VEVENT
END:VCALENDAR